BEGIN:VCALENDAR
VERSION:2.0
PRODID:SchoolNow
CALSCALE:GREGORIAN
BEGIN:VEVENT
UID:36c05424-dd8f-11ef-a973-0e956362e35d
DTSTAMP:20250128T154744Z
SUMMARY:ROTC practice @ PHS Main Gym (10:00 AM)
LOCATION:PHS Main Gym
URL;VALUE=URI:https://www.uticaschools.org/departments/athletics/calendar/7
 388218/rotc-practice-phs-main-gym-10-00-am
DTSTART:20250123T150000Z
DTEND:20250123T170000Z
END:VEVENT
END:VCALENDAR
