BEGIN:VCALENDAR
VERSION:2.0
PRODID:SchoolNow
CALSCALE:GREGORIAN
BEGIN:VEVENT
UID:36c04a74-dd8f-11ef-bad9-0e956362e35d
DTSTAMP:20250128T154744Z
SUMMARY:(G) V Basketball - Practice (12:00 PM)
LOCATION:PHS Main Gym
URL;VALUE=URI:https://www.uticaschools.org/departments/athletics/calendar/7
 388211/g-v-basketball-practice-12-00-pm
DTSTART:20250118T170000Z
DTEND:20250118T190000Z
END:VEVENT
END:VCALENDAR
