BEGIN:VCALENDAR
VERSION:2.0
PRODID:SchoolNow
CALSCALE:GREGORIAN
BEGIN:VEVENT
UID:3423d60a-dd8f-11ef-ae76-0e956362e35d
DTSTAMP:20250128T154739Z
SUMMARY:(B) V Winter Track - Practice (2:50 PM)
LOCATION:PHS Indoor Track (Practice Facility)\, PHS Softball "TURF " Field
URL;VALUE=URI:https://www.uticaschools.org/departments/athletics/calendar/7
 387708/b-v-winter-track-practice-2-50-pm
DTSTART:20241118T195000Z
DTEND:20241118T205000Z
END:VEVENT
END:VCALENDAR
