BEGIN:VCALENDAR
VERSION:2.0
PRODID:SchoolNow
CALSCALE:GREGORIAN
BEGIN:VEVENT
UID:33b45064-dd8f-11ef-9a9b-0e956362e35d
DTSTAMP:20250128T154738Z
SUMMARY:(G) JV Basketball - Practice (4:00 PM)
LOCATION:PHS Main Gym
URL;VALUE=URI:https://www.uticaschools.org/departments/athletics/calendar/7
 387583/g-jv-basketball-practice-4-00-pm
DTSTART:20241127T210000Z
DTEND:20241127T230000Z
END:VEVENT
END:VCALENDAR
