BEGIN:VCALENDAR
VERSION:2.0
PRODID:SchoolNow
CALSCALE:GREGORIAN
BEGIN:VEVENT
UID:31e6cd7a-dd8f-11ef-b22b-0e956362e35d
DTSTAMP:20250128T154735Z
SUMMARY:MVCC SOCCER @ PHS Stadium (Turf Field/Track) (10:00 AM)
LOCATION:PHS Stadium (Turf Field/Track)
URL;VALUE=URI:https://www.uticaschools.org/departments/athletics/calendar/7
 387215/mvcc-soccer-phs-stadium-turf-field-track-10-00-am
DTSTART:20241110T150000Z
DTEND:20241110T190000Z
END:VEVENT
END:VCALENDAR
