BEGIN:VCALENDAR
VERSION:2.0
PRODID:SchoolNow
CALSCALE:GREGORIAN
BEGIN:VEVENT
UID:31e674c4-dd8f-11ef-8d87-0e956362e35d
DTSTAMP:20250128T154735Z
SUMMARY:Boys Junior Varsity Football v. Whitesboro
LOCATION:PHS Stadium (Turf Field/Track)
URL;VALUE=URI:https://www.uticaschools.org/departments/athletics/calendar/7
 387147/boys-junior-varsity-football-v-whitesboro
DTSTART:20241102T133000Z
DTEND:20241102T163000Z
END:VEVENT
END:VCALENDAR
