BEGIN:VCALENDAR
VERSION:2.0
PRODID:SchoolNow
CALSCALE:GREGORIAN
BEGIN:VEVENT
UID:31e66290-dd8f-11ef-883a-0e956362e35d
DTSTAMP:20250128T154735Z
SUMMARY:(B) JV Football - Practice (3:00 PM)
LOCATION:PHS Softball "TURF " Field
URL;VALUE=URI:https://www.uticaschools.org/departments/athletics/calendar/7
 387139/b-jv-football-practice-3-00-pm
DTSTART:20241031T190000Z
DTEND:20241031T213000Z
END:VEVENT
END:VCALENDAR
