BEGIN:VCALENDAR
VERSION:2.0
PRODID:SchoolNow
CALSCALE:GREGORIAN
BEGIN:VEVENT
UID:317b8088-dd8f-11ef-88b1-0e956362e35d
DTSTAMP:20250128T154735Z
SUMMARY:Pop Warner @ PHS Stadium (Turf Field/Track) (6:00 PM)
LOCATION:PHS Stadium (Turf Field/Track)
URL;VALUE=URI:https://www.uticaschools.org/departments/athletics/calendar/7
 387107/pop-warner-phs-stadium-turf-field-track-6-00-pm
DTSTART:20241015T220000Z
DTEND:20241016T000000Z
END:VEVENT
END:VCALENDAR
