BEGIN:VCALENDAR
VERSION:2.0
PRODID:SchoolNow
CALSCALE:GREGORIAN
BEGIN:VEVENT
UID:317b7660-dd8f-11ef-8841-0e956362e35d
DTSTAMP:20250128T154735Z
SUMMARY:Boys (Mohawk Valley Jugglers) Varsity Ice Hockey @ Oswego
LOCATION:Anthony Crisafulli  Rink (The Fort)
URL;VALUE=URI:https://www.uticaschools.org/departments/athletics/calendar/7
 387096/boys-mohawk-valley-jugglers-varsity-ice-hockey-oswego
DTSTART:20241128T000000Z
DTEND:20241128T010000Z
END:VEVENT
END:VCALENDAR
