BEGIN:VCALENDAR
VERSION:2.0
PRODID:SchoolNow
CALSCALE:GREGORIAN
BEGIN:VEVENT
UID:317b59dc-dd8f-11ef-8ee2-0e956362e35d
DTSTAMP:20250128T154735Z
SUMMARY:MVCC SOCCER @ PHS Stadium (Turf Field/Track) (5:30 PM)
LOCATION:PHS Stadium (Turf Field/Track)
URL;VALUE=URI:https://www.uticaschools.org/departments/athletics/calendar/7
 387075/mvcc-soccer-phs-stadium-turf-field-track-5-30-pm
DTSTART:20241011T213000Z
DTEND:20241012T000000Z
END:VEVENT
END:VCALENDAR
