BEGIN:VCALENDAR
VERSION:2.0
PRODID:SchoolNow
CALSCALE:GREGORIAN
BEGIN:VEVENT
UID:317b5842-dd8f-11ef-8eb3-0e956362e35d
DTSTAMP:20250128T154735Z
SUMMARY:Girls Varsity Tennis v. Rome Free Academy
LOCATION:Utica Parkway Tennis Courts
URL;VALUE=URI:https://www.uticaschools.org/departments/athletics/calendar/7
 387073/girls-varsity-tennis-v-rome-free-academy
DTSTART:20241014T123000Z
DTEND:20241014T180000Z
END:VEVENT
END:VCALENDAR
