BEGIN:VCALENDAR
VERSION:2.0
PRODID:SchoolNow
CALSCALE:GREGORIAN
BEGIN:VEVENT
UID:3112ec62-dd8f-11ef-8663-0e956362e35d
DTSTAMP:20250128T154734Z
SUMMARY:MVCC Softball @ PHS Softball "TURF " Field (9:00 AM)
LOCATION:PHS Softball "TURF " Field
URL;VALUE=URI:https://www.uticaschools.org/departments/athletics/calendar/7
 387031/mvcc-softball-phs-softball-turf-field-9-00-am
DTSTART:20241020T130000Z
DTEND:20241020T170000Z
END:VEVENT
END:VCALENDAR
