BEGIN:VCALENDAR
VERSION:2.0
PRODID:SchoolNow
CALSCALE:GREGORIAN
BEGIN:VEVENT
UID:3112a5e0-dd8f-11ef-9503-0e956362e35d
DTSTAMP:20250128T154734Z
SUMMARY:Boys Junior Varsity Volleyball @ Oneida
LOCATION:Fariel Gym
URL;VALUE=URI:https://www.uticaschools.org/departments/athletics/calendar/7
 386990/boys-junior-varsity-volleyball-oneida
DTSTART:20250203T223000Z
DTEND:20250204T000000Z
END:VEVENT
END:VCALENDAR
