BEGIN:VCALENDAR
VERSION:2.0
PRODID:SchoolNow
CALSCALE:GREGORIAN
BEGIN:VEVENT
UID:31128e02-dd8f-11ef-a742-0e956362e35d
DTSTAMP:20250128T154734Z
SUMMARY:CANCELLED: Girls (JFK) 7th/8th Basketball v. Notre Dame\, Utica
LOCATION:JFK Gym
URL;VALUE=URI:https://www.uticaschools.org/departments/athletics/calendar/7
 386968/cancelled-girls-jfk-7th-8th-basketball-v-notre-dame-utica
DTSTART:20250130T210000Z
DTEND:20250130T220000Z
END:VEVENT
END:VCALENDAR
