BEGIN:VCALENDAR
VERSION:2.0
PRODID:SchoolNow
CALSCALE:GREGORIAN
BEGIN:VEVENT
UID:309cd96e-dd8f-11ef-82eb-0e956362e35d
DTSTAMP:20250128T154733Z
SUMMARY:(G) V Tennis - Practice (3:00 PM)
LOCATION:PHS Tennis Courts
URL;VALUE=URI:https://www.uticaschools.org/departments/athletics/calendar/7
 386919/g-v-tennis-practice-3-00-pm
DTSTART:20240930T190000Z
DTEND:20240930T210000Z
END:VEVENT
END:VCALENDAR
