BEGIN:VCALENDAR
VERSION:2.0
PRODID:SchoolNow
CALSCALE:GREGORIAN
BEGIN:VEVENT
UID:309cd888-dd8f-11ef-af88-0e956362e35d
DTSTAMP:20250128T154733Z
SUMMARY:PHS Girls Basketball @ PHS Main Gym (5:00 PM)
LOCATION:PHS Main Gym
URL;VALUE=URI:https://www.uticaschools.org/departments/athletics/calendar/7
 386918/phs-girls-basketball-phs-main-gym-5-00-pm
DTSTART:20240930T210000Z
DTEND:20240930T230000Z
END:VEVENT
END:VCALENDAR
