BEGIN:VCALENDAR
VERSION:2.0
PRODID:SchoolNow
CALSCALE:GREGORIAN
BEGIN:VEVENT
UID:309c54b2-dd8f-11ef-8bd9-0e956362e35d
DTSTAMP:20250128T154733Z
SUMMARY:Girls (JFK) 7th/8th Volleyball v. Vernon-Verona-Sherrill
LOCATION:JFK Gym
URL;VALUE=URI:https://www.uticaschools.org/departments/athletics/calendar/7
 386856/girls-jfk-7th-8th-volleyball-v-vernon-verona-sherrill
DTSTART:20250113T213000Z
DTEND:20250113T223000Z
END:VEVENT
END:VCALENDAR
