BEGIN:VCALENDAR
VERSION:2.0
PRODID:SchoolNow
CALSCALE:GREGORIAN
BEGIN:VEVENT
UID:309c4d14-dd8f-11ef-97df-0e956362e35d
DTSTAMP:20250128T154733Z
SUMMARY:Girls (DMS) 7th/8th Volleyball @ Rome Free Academy (Orange)
LOCATION:Buddy Evans Gym (Strough MS)
URL;VALUE=URI:https://www.uticaschools.org/departments/athletics/calendar/7
 386847/girls-dms-7th-8th-volleyball-rome-free-academy-orange
DTSTART:20250121T210000Z
DTEND:20250121T220000Z
END:VEVENT
END:VCALENDAR
