BEGIN:VCALENDAR
VERSION:2.0
PRODID:SchoolNow
CALSCALE:GREGORIAN
BEGIN:VEVENT
UID:309c3da6-dd8f-11ef-80c7-0e956362e35d
DTSTAMP:20250128T154733Z
SUMMARY:Boys Modified 8/9 Basketball @ Corcoran
LOCATION:Corcoran HS Reinman Rd. Entrance
URL;VALUE=URI:https://www.uticaschools.org/departments/athletics/calendar/7
 386834/boys-modified-8-9-basketball-corcoran
DTSTART:20250113T220000Z
DTEND:20250113T234500Z
END:VEVENT
END:VCALENDAR
