BEGIN:VCALENDAR
VERSION:2.0
PRODID:SchoolNow
CALSCALE:GREGORIAN
BEGIN:VEVENT
UID:2fbee4d8-dd8f-11ef-867c-0e956362e35d
DTSTAMP:20250128T154732Z
SUMMARY:Boys Varsity Bowling v. Vernon-Verona-Sherrill
LOCATION:Vista Lanes
URL;VALUE=URI:https://www.uticaschools.org/departments/athletics/calendar/7
 386706/boys-varsity-bowling-v-vernon-verona-sherrill
DTSTART:20250124T210000Z
DTEND:20250124T220000Z
END:VEVENT
END:VCALENDAR
