BEGIN:VCALENDAR
VERSION:2.0
PRODID:SchoolNow
CALSCALE:GREGORIAN
BEGIN:VEVENT
UID:2fbec7aa-dd8f-11ef-a1a1-0e956362e35d
DTSTAMP:20250128T154732Z
SUMMARY:Boys 7th/8th Wrestling v. TBD
URL;VALUE=URI:https://www.uticaschools.org/departments/athletics/calendar/7
 386692/boys-7th-8th-wrestling-v-tbd
DTSTART:20250118T050000Z
DTEND:20250118T060000Z
END:VEVENT
END:VCALENDAR
