BEGIN:VCALENDAR
VERSION:2.0
PRODID:SchoolNow
CALSCALE:GREGORIAN
BEGIN:VEVENT
UID:2e8d372c-dd8f-11ef-8685-0e956362e35d
DTSTAMP:20250128T154730Z
SUMMARY:(G) JV Cheerleading - Practice (3:00 PM)
LOCATION:PHS Main Gym
URL;VALUE=URI:https://www.uticaschools.org/departments/athletics/calendar/7
 386416/g-jv-cheerleading-practice-3-00-pm
DTSTART:20240930T190000Z
DTEND:20240930T210000Z
END:VEVENT
END:VCALENDAR
