BEGIN:VCALENDAR
VERSION:2.0
PRODID:SchoolNow
CALSCALE:GREGORIAN
BEGIN:VEVENT
UID:2e28d48a-dd8f-11ef-a2ff-0e956362e35d
DTSTAMP:20250128T154729Z
SUMMARY:POSTPONED: (G) 7/8TH Soccer (JFK) - Practice (2:30 PM)
LOCATION:JFK Soccer Field
URL;VALUE=URI:https://www.uticaschools.org/departments/athletics/calendar/7
 386325/postponed-g-7-8th-soccer-jfk-practice-2-30-pm
DTSTART:20241015T183000Z
DTEND:20241015T200000Z
END:VEVENT
END:VCALENDAR
