BEGIN:VCALENDAR
VERSION:2.0
PRODID:SchoolNow
CALSCALE:GREGORIAN
BEGIN:VEVENT
UID:2e28bc52-dd8f-11ef-a71f-0e956362e35d
DTSTAMP:20250128T154729Z
SUMMARY:Girls Varsity Gymnastics v. Central Square
LOCATION:Valley Gymnastics
URL;VALUE=URI:https://www.uticaschools.org/departments/athletics/calendar/7
 386311/girls-varsity-gymnastics-v-central-square
DTSTART:20241005T174500Z
DTEND:20241005T184500Z
END:VEVENT
END:VCALENDAR
