BEGIN:VCALENDAR
VERSION:2.0
PRODID:SchoolNow
CALSCALE:GREGORIAN
BEGIN:VEVENT
UID:2e28aa14-dd8f-11ef-a785-0e956362e35d
DTSTAMP:20250128T154729Z
SUMMARY:(G) V Gymnastics - Practice (3:30 PM)
LOCATION:Valley Gymnastics
URL;VALUE=URI:https://www.uticaschools.org/departments/athletics/calendar/7
 386305/g-v-gymnastics-practice-3-30-pm
DTSTART:20241018T193000Z
DTEND:20241018T210000Z
END:VEVENT
END:VCALENDAR
