BEGIN:VCALENDAR
VERSION:2.0
PRODID:SchoolNow
CALSCALE:GREGORIAN
BEGIN:VEVENT
UID:2dc6b566-dd8f-11ef-98a1-0e956362e35d
DTSTAMP:20250128T154728Z
SUMMARY:Girls Varsity Basketball @ Notre Dame\, Utica
LOCATION:Michael Walsh Gymnasium
URL;VALUE=URI:https://www.uticaschools.org/departments/athletics/calendar/7
 386227/girls-varsity-basketball-notre-dame-utica
DTSTART:20250117T000000Z
DTEND:20250117T010000Z
END:VEVENT
END:VCALENDAR
