BEGIN:VCALENDAR
VERSION:2.0
PRODID:SchoolNow
CALSCALE:GREGORIAN
BEGIN:VEVENT
UID:2dc68b68-dd8f-11ef-916f-0e956362e35d
DTSTAMP:20250128T154728Z
SUMMARY:Boys (DMS) 7th/8th Soccer v. Rome Free Academy
LOCATION:Donovan Soccer Field
URL;VALUE=URI:https://www.uticaschools.org/departments/athletics/calendar/7
 386182/boys-dms-7th-8th-soccer-v-rome-free-academy
DTSTART:20241018T201500Z
DTEND:20241018T220000Z
END:VEVENT
END:VCALENDAR
