BEGIN:VCALENDAR
VERSION:2.0
PRODID:SchoolNow
CALSCALE:GREGORIAN
BEGIN:VEVENT
UID:2d380604-dd8f-11ef-bf7a-0e956362e35d
DTSTAMP:20250128T154728Z
SUMMARY:Girls Junior Varsity Basketball @ Oriskany (Oriskany/Westmoreland)
LOCATION:Davis Gym @ High School
URL;VALUE=URI:https://www.uticaschools.org/departments/athletics/calendar/7
 386076/girls-junior-varsity-basketball-oriskany-oriskany-westmoreland
DTSTART:20250108T223000Z
DTEND:20250108T233000Z
END:VEVENT
END:VCALENDAR
