BEGIN:VCALENDAR
VERSION:2.0
PRODID:SchoolNow
CALSCALE:GREGORIAN
BEGIN:VEVENT
UID:2d37d922-dd8f-11ef-82d3-0e956362e35d
DTSTAMP:20250128T154728Z
SUMMARY:Boys Junior Varsity Football @ Cicero-North Syracuse
LOCATION:CNS HS-Bragman Stadium
URL;VALUE=URI:https://www.uticaschools.org/departments/athletics/calendar/7
 386035/boys-junior-varsity-football-cicero-north-syracuse
DTSTART:20241010T213000Z
DTEND:20241011T000000Z
END:VEVENT
END:VCALENDAR
